BEGIN:VCALENDAR
VERSION:2.0
PRODID:icalendar-ruby
CALSCALE:GREGORIAN
METHOD:PUBLISH
BEGIN:VEVENT
DTSTAMP:20260421T213158Z
UID:6-2372258@faithbaptistchurchlp.com
DTSTART:20261021T170000Z
DTEND:20261021T180000Z
CLASS:PUBLIC
CREATED:20260421T115706
DESCRIPTION:
LAST-MODIFIED:20260421T115706
LOCATION:Fellowship Hall
SUMMARY:Morning Prayer Meeting
URL;VALUE=URI:https://www.faithbaptistchurchlp.com/events/morning-prayer-me
 eting/2026-10-21
ATTACH;FILENAME=Prayer.jpg;FMTTYPE=image/jpeg:https://dq5pwpg1q8ru0.cloudfr
 ont.net/2021/03/23/09/36/30/830e484b-d0eb-4451-968f-d1aa64e1a028/Prayer.jp
 g
END:VEVENT
END:VCALENDAR
